BEGIN:VCALENDAR
VERSION:2.0
PRODID:-//ExpressionEngine Easy iCalendar plugin//NONSGML v2.0.1//EN
X-WR-TIMEZONE:America/Chicago
X-WR-CALNAME:Upcoming Auctions
BEGIN:VEVENT
UID:161030
DTSTAMP:20260709T060000
DTSTART:20260709T060000
DTEND:20260723T100000
SUMMARY:July 2026 Machine Tool Marketplace
LOCATION:8370 W. 35W Service Drive NE\, Blaine\, MN 55449\, US
DESCRIPTION:Accepting Consignments Beginning May 28th! Call (612) 991-70
 08 for More Information.
URL:https://www.premiermachineryauctions.com/auctions/detail/bw1
 61030
SEQUENCE:1
END:VEVENT
END:VCALENDAR